BEGIN:VCALENDAR
VERSION:2.0
PRODID:spatie/icalendar-generator
DESCRIPTION:Events from Unity Community Mediation Team
X-WR-CALDESC:Events from Unity Community Mediation Team
REFRESH-INTERVAL;VALUE=DURATION:PT1440M
X-PUBLISHED-TTL:PT1440M
BEGIN:VTIMEZONE
TZID:Etc/GMT+0
BEGIN:STANDARD
DTSTART:20250811T110000Z
TZOFFSETFROM:+0000
TZOFFSETTO:+0000
END:STANDARD
END:VTIMEZONE
BEGIN:VTIMEZONE
TZID:UTC
BEGIN:STANDARD
DTSTART:20250723T213512Z
TZOFFSETFROM:+0000
TZOFFSETTO:+0000
END:STANDARD
END:VTIMEZONE
BEGIN:VEVENT
UID:34-7
DTSTAMP:20260419T213512Z
SUMMARY:Sites/Mentor Committee
LOCATION:Minneapolis City Hall 350 S 5th St\, Minneapolis\, MN  Suite 130 M
 inneapolis MN 55415
ORGANIZER;CN=Unity Community Mediation Team:MAILTO:ucmt2003@gmail.com
RRULE:FREQ=MONTHLY;BYDAY=2FR;UNTIL=20261231T000000Z
DTSTART;TZID=Etc/GMT+0:20260508T110000
DTEND;TZID=Etc/GMT+0:20260508T120000
X-ALT-DESC;FMTTYPE=TEXT/HTML:
CATEGORIES:Sites/Mentor Committee
URL;VALUE=URI:https://unitycommunitymediation.org/mc-events/sites-mentor-co
 mmittee/?mc_id=34
METHOD:PUBLISH
END:VEVENT
END:VCALENDAR